BEGIN:VCALENDAR
VERSION:2.0
PRODID:-//Plone.org//NONSGML plone.app.event//EN
X-WR-TIMEZONE:Brazil/East
BEGIN:VEVENT
SUMMARY:SESSÃO ESPECIAL EM HOMENAGEM ÀS MULHERES QUE PROMOVEM INCLUSÃO 
 SOCIAL.
DTSTART;TZID=Brazil/East;VALUE=DATE-TIME:20260327T190000
DTEND;TZID=Brazil/East;VALUE=DATE-TIME:20260327T200000
DTSTAMP;VALUE=DATE-TIME:20260419T214944Z
UID:622503342cca467e81492b9bd953eabb@www.goiania.go.leg.br
CONTACT:VEREADOR JUAREZ LOPES
CREATED;VALUE=DATE-TIME:20260212T132306Z
LAST-MODIFIED;VALUE=DATE-TIME:20260313T164437Z
LOCATION:PLENÁRIO TRAJANO GUIMARÃES
URL:https://www.goiania.go.leg.br/sala-de-imprensa/eventos/sessao-especial
 -em-homenagem-as-mulheres-que-promovem-inclusao-social
END:VEVENT
BEGIN:VTIMEZONE
TZID:Brazil/East
X-LIC-LOCATION:Brazil/East
BEGIN:STANDARD
DTSTART;VALUE=DATE-TIME:20260221T230000
TZNAME:BRT
TZOFFSETFROM:-0200
TZOFFSETTO:-0300
END:STANDARD
END:VTIMEZONE
END:VCALENDAR
