BEGIN:VCALENDAR
VERSION:2.0
PRODID:-//Plone.org//NONSGML plone.app.event//EN
X-WR-TIMEZONE:Brazil/East
BEGIN:VEVENT
SUMMARY:SESSÃO ESPECIAL EM HOMENAGEM AS MULHERES INSPIRADORAS.
DTSTART;TZID=Brazil/East;VALUE=DATE-TIME:20200309T100000
DTEND;TZID=Brazil/East;VALUE=DATE-TIME:20200309T120000
DTSTAMP;VALUE=DATE-TIME:20260420T094001Z
UID:13aa2c81149b429e886cd6046bb6ddd8@www.goiania.go.leg.br
CONTACT:VEREADOR LUCAS KITÃO
CREATED;VALUE=DATE-TIME:20200203T111912Z
LAST-MODIFIED;VALUE=DATE-TIME:20200203T111922Z
LOCATION:PLENÁRIO TRAJANO GUIMARÃES
URL:https://www.goiania.go.leg.br/sala-de-imprensa/eventos/sessao-especial
 -em-homenagem-as-mulheres-inspiradoras
END:VEVENT
BEGIN:VTIMEZONE
TZID:Brazil/East
X-LIC-LOCATION:Brazil/East
BEGIN:STANDARD
DTSTART;VALUE=DATE-TIME:20200215T230000
TZNAME:BRT
TZOFFSETFROM:-0200
TZOFFSETTO:-0300
END:STANDARD
END:VTIMEZONE
END:VCALENDAR
