BEGIN:VCALENDAR
VERSION:2.0
PRODID:-//Plone.org//NONSGML plone.app.event//EN
X-WR-TIMEZONE:Brazil/East
BEGIN:VEVENT
SUMMARY:SESSÃO ESPECIAL EM HOMENAGEM ÀS MULHERES HEROÍNAS DA VIDA REAL.
DTSTART;TZID=Brazil/East;VALUE=DATE-TIME:20240513T190000
DTEND;TZID=Brazil/East;VALUE=DATE-TIME:20240513T220000
DTSTAMP;VALUE=DATE-TIME:20260420T021201Z
UID:4a074d1b97c449e6afa0ce8323bff5cc@www.goiania.go.leg.br
CONTACT:VEREADOR ANSELMO PEREIRA
CREATED;VALUE=DATE-TIME:20240417T133409Z
LAST-MODIFIED;VALUE=DATE-TIME:20240417T145858Z
LOCATION:PLENÁRIO TRAJANO GUIMARÃES
URL:https://www.goiania.go.leg.br/sala-de-imprensa/eventos/sessao-especial
 -em-homenagem-as-mulheres-heroinas-da-vida-real
END:VEVENT
BEGIN:VTIMEZONE
TZID:Brazil/East
X-LIC-LOCATION:Brazil/East
BEGIN:STANDARD
DTSTART;VALUE=DATE-TIME:20240217T230000
TZNAME:BRT
TZOFFSETFROM:-0200
TZOFFSETTO:-0300
END:STANDARD
END:VTIMEZONE
END:VCALENDAR
