BEGIN:VCALENDAR
VERSION:2.0
PRODID:-//Plone.org//NONSGML plone.app.event//EN
X-WR-TIMEZONE:Brazil/East
BEGIN:VEVENT
SUMMARY:SESSÃO ESPECIAL EM HOMENAGEM AO DIA DO EMPREENDEDORISMO FEMININO.
DTSTART;TZID=Brazil/East;VALUE=DATE-TIME:20231117T170000
DTEND;TZID=Brazil/East;VALUE=DATE-TIME:20231117T190000
DTSTAMP;VALUE=DATE-TIME:20260420T063259Z
UID:defc4ae8dc85475e812047c600c4941e@www.goiania.go.leg.br
CONTACT:VEREADOR LEANDRO SENA E WELTON LEMOS
CREATED;VALUE=DATE-TIME:20230207T125634Z
LAST-MODIFIED;VALUE=DATE-TIME:20231019T120924Z
LOCATION:PLENÁRIO TRAJANO GUIMARÃES
URL:https://www.goiania.go.leg.br/sala-de-imprensa/eventos/sessao-especial
 -em-homenagem-as-mulheres-empreendedoras-1
END:VEVENT
BEGIN:VTIMEZONE
TZID:Brazil/East
X-LIC-LOCATION:Brazil/East
BEGIN:DAYLIGHT
DTSTART;VALUE=DATE-TIME:20231015T010000
TZNAME:BRST
TZOFFSETFROM:-0300
TZOFFSETTO:-0200
END:DAYLIGHT
END:VTIMEZONE
END:VCALENDAR
