BEGIN:VCALENDAR
VERSION:2.0
PRODID:-//Plone.org//NONSGML plone.app.event//EN
X-WR-TIMEZONE:Brazil/East
BEGIN:VEVENT
SUMMARY:SESSÃO ESPECIAL EM HOMENAGEM AS MULHERES DO AGRONEGÓCIO.
DTSTART;TZID=Brazil/East;VALUE=DATE-TIME:20260311T190000
DTEND;TZID=Brazil/East;VALUE=DATE-TIME:20260311T220000
DTSTAMP;VALUE=DATE-TIME:20260420T094622Z
UID:f7fdd4fd33ec4f37af0776ad3ecb506d@www.goiania.go.leg.br
CONTACT:VEREADOR MAJOR VITOR HUGO
CREATED;VALUE=DATE-TIME:20260202T130235Z
LAST-MODIFIED;VALUE=DATE-TIME:20260202T130253Z
LOCATION:PLENÁRIO TRAJANO GUIMARÃES
URL:https://www.goiania.go.leg.br/sala-de-imprensa/eventos/sessao-especial
 -em-homenagem-as-mulheres-do-agronegocio
END:VEVENT
BEGIN:VTIMEZONE
TZID:Brazil/East
X-LIC-LOCATION:Brazil/East
BEGIN:STANDARD
DTSTART;VALUE=DATE-TIME:20260221T230000
TZNAME:BRT
TZOFFSETFROM:-0200
TZOFFSETTO:-0300
END:STANDARD
END:VTIMEZONE
END:VCALENDAR
