BEGIN:VCALENDAR
VERSION:2.0
PRODID:-//Plone.org//NONSGML plone.app.event//EN
X-WR-TIMEZONE:Brazil/East
BEGIN:VEVENT
SUMMARY:SESSÃO ESPECIAL EM HOMENAGEM ÀS  MULHERES DO AGRO.
DTSTART;TZID=Brazil/East;VALUE=DATE-TIME:20240219T090000
DTEND;TZID=Brazil/East;VALUE=DATE-TIME:20240219T120000
DTSTAMP;VALUE=DATE-TIME:20260420T063235Z
UID:d69444cc7b2643af91ad721b7ae312b8@www.goiania.go.leg.br
CONTACT:VEREADORES LEANDRO SENA E WELTON LEMOS
CREATED;VALUE=DATE-TIME:20240118T142539Z
LAST-MODIFIED;VALUE=DATE-TIME:20240118T142621Z
LOCATION:PLENÁRIO TRAJANO GUIMARÃES
URL:https://www.goiania.go.leg.br/sala-de-imprensa/eventos/sessao-especial
 -em-homenagem-as-mulheres-do-agro
END:VEVENT
BEGIN:VTIMEZONE
TZID:Brazil/East
X-LIC-LOCATION:Brazil/East
BEGIN:STANDARD
DTSTART;VALUE=DATE-TIME:20240217T230000
TZNAME:BRT
TZOFFSETFROM:-0200
TZOFFSETTO:-0300
END:STANDARD
END:VTIMEZONE
END:VCALENDAR
