BEGIN:VCALENDAR
VERSION:2.0
PRODID:-//Plone.org//NONSGML plone.app.event//EN
X-WR-TIMEZONE:Brazil/East
BEGIN:VEVENT
SUMMARY:SESSÃO ESPECIAL EM HOMENAGEM  ÀS MULHERES PIONEIRAS E INSPIRADOR
 AS.
DTSTART;TZID=Brazil/East;VALUE=DATE-TIME:20240315T190000
DTEND;TZID=Brazil/East;VALUE=DATE-TIME:20240315T220000
DTSTAMP;VALUE=DATE-TIME:20260420T104254Z
UID:1dd63b7c62584357a40c8fa4a53bbff3@www.goiania.go.leg.br
CONTACT:VEREADOR ANSELMO PEREIRA
CREATED;VALUE=DATE-TIME:20240118T151027Z
LAST-MODIFIED;VALUE=DATE-TIME:20240229T134511Z
LOCATION:PLENÁRIO TRAJANO GUIMARÃES
URL:https://www.goiania.go.leg.br/sala-de-imprensa/eventos/sessao-especial
 -em-homenagem-as-mulheres-de-carreira-juridica-4
END:VEVENT
BEGIN:VTIMEZONE
TZID:Brazil/East
X-LIC-LOCATION:Brazil/East
BEGIN:STANDARD
DTSTART;VALUE=DATE-TIME:20240217T230000
TZNAME:BRT
TZOFFSETFROM:-0200
TZOFFSETTO:-0300
END:STANDARD
END:VTIMEZONE
END:VCALENDAR
