BEGIN:VCALENDAR
VERSION:2.0
PRODID:-//Plone.org//NONSGML plone.app.event//EN
X-WR-TIMEZONE:Brazil/East
BEGIN:VEVENT
SUMMARY:SESSÃO ESPECIAL EM  HOMENAGEM ÀS MULHERES DE CARREIRA JURÍDICA.
DTSTART;TZID=Brazil/East;VALUE=DATE-TIME:20200825T170000
DTEND;TZID=Brazil/East;VALUE=DATE-TIME:20200825T210000
DTSTAMP;VALUE=DATE-TIME:20260419T190639Z
UID:370301690bc9442190a83e7c0bb7620b@www.goiania.go.leg.br
CONTACT:VEREADOR ANSELMO PEREIRA
CREATED;VALUE=DATE-TIME:20200817T135801Z
LAST-MODIFIED;VALUE=DATE-TIME:20200817T135811Z
LOCATION:PLENÁRIO TRAJANO GUIMARÃES
URL:https://www.goiania.go.leg.br/sala-de-imprensa/eventos/sessao-especial
 -em-homenagem-as-mulheres-de-carreira-juridica-3
END:VEVENT
BEGIN:VTIMEZONE
TZID:Brazil/East
X-LIC-LOCATION:Brazil/East
BEGIN:STANDARD
DTSTART;VALUE=DATE-TIME:20200215T230000
TZNAME:BRT
TZOFFSETFROM:-0200
TZOFFSETTO:-0300
END:STANDARD
END:VTIMEZONE
END:VCALENDAR
