BEGIN:VCALENDAR
VERSION:2.0
PRODID:-//Plone.org//NONSGML plone.app.event//EN
X-WR-TIMEZONE:Brazil/East
BEGIN:VEVENT
SUMMARY:SESSÃO ESPECIAL EM HOMENAGEM ÀS MULHERES DE ALTO VALOR.
DTSTART;TZID=Brazil/East;VALUE=DATE-TIME:20250325T190000
DTEND;TZID=Brazil/East;VALUE=DATE-TIME:20250325T220000
DTSTAMP;VALUE=DATE-TIME:20260419T104818Z
UID:051b011903b8433fb76781293fda1a13@www.goiania.go.leg.br
CONTACT:VEREADOR VITOR HUGO
CREATED;VALUE=DATE-TIME:20250226T141336Z
LAST-MODIFIED;VALUE=DATE-TIME:20250321T120547Z
LOCATION:PLENÁRIO TRAJANO GUIMARÃES
URL:https://www.goiania.go.leg.br/sala-de-imprensa/eventos/sessao-especial
 -em-homenagem-as-mulheres-de-alto-valor
END:VEVENT
BEGIN:VTIMEZONE
TZID:Brazil/East
X-LIC-LOCATION:Brazil/East
BEGIN:STANDARD
DTSTART;VALUE=DATE-TIME:20250215T230000
TZNAME:BRT
TZOFFSETFROM:-0200
TZOFFSETTO:-0300
END:STANDARD
END:VTIMEZONE
END:VCALENDAR
