BEGIN:VCALENDAR
VERSION:2.0
PRODID:-//Plone.org//NONSGML plone.app.event//EN
X-WR-TIMEZONE:Brazil/East
BEGIN:VEVENT
SUMMARY:SESSÃO ESPECIAL EM HOMENAGEM ÀS MULHERES DA FAMÍLIA PINHEIRO.
DTSTART;TZID=Brazil/East;VALUE=DATE-TIME:20240911T110000
DTEND;TZID=Brazil/East;VALUE=DATE-TIME:20240911T120000
DTSTAMP;VALUE=DATE-TIME:20260421T155112Z
UID:cbd7870131f84b8bbb42b59e9134c0cd@www.goiania.go.leg.br
CONTACT:VEREADOR ANSELMO PEREIRA
CREATED;VALUE=DATE-TIME:20240828T115058Z
LAST-MODIFIED;VALUE=DATE-TIME:20240828T115115Z
LOCATION:AUDITÓRIO JAIME CÂMARA
URL:https://www.goiania.go.leg.br/sala-de-imprensa/eventos/sessao-especial
 -em-homenagem-as-mulheres-da-familia-pinheiro
END:VEVENT
BEGIN:VTIMEZONE
TZID:Brazil/East
X-LIC-LOCATION:Brazil/East
BEGIN:STANDARD
DTSTART;VALUE=DATE-TIME:20240217T230000
TZNAME:BRT
TZOFFSETFROM:-0200
TZOFFSETTO:-0300
END:STANDARD
END:VTIMEZONE
END:VCALENDAR
