BEGIN:VCALENDAR
VERSION:2.0
PRODID:-//Plone.org//NONSGML plone.app.event//EN
X-WR-TIMEZONE:Brazil/East
BEGIN:VEVENT
SUMMARY:SESSÃO ESPECIAL EM HOMENAGEM ÀS MICROEMPRESARIAS E EMPREENDEDORA
 S
DTSTART;TZID=Brazil/East;VALUE=DATE-TIME:20180504T090000
DTEND;TZID=Brazil/East;VALUE=DATE-TIME:20180504T120000
DTSTAMP;VALUE=DATE-TIME:20260421T013009Z
UID:c4930f6278b24ed1a9139d85984a7440@www.goiania.go.leg.br
CONTACT:VEREADORA PRISCILLA TEJOTA
CREATED;VALUE=DATE-TIME:20180423T125539Z
LAST-MODIFIED;VALUE=DATE-TIME:20180423T125552Z
LOCATION:PLENÁRIO TRAJANO GUIMARÃES
URL:https://www.goiania.go.leg.br/sala-de-imprensa/eventos/sessao-especial
 -em-homenagem-as-microempresarias-e-empreendedoras
END:VEVENT
BEGIN:VTIMEZONE
TZID:Brazil/East
X-LIC-LOCATION:Brazil/East
BEGIN:STANDARD
DTSTART;VALUE=DATE-TIME:20180217T230000
TZNAME:BRT
TZOFFSETFROM:-0200
TZOFFSETTO:-0300
END:STANDARD
END:VTIMEZONE
END:VCALENDAR
