BEGIN:VCALENDAR
VERSION:2.0
PRODID:-//Plone.org//NONSGML plone.app.event//EN
X-WR-TIMEZONE:Brazil/East
BEGIN:VEVENT
SUMMARY:SESSÃO ESPECIAL EM HOMENAGEM AS MÃES DE AUTISTAS.
DTSTART;TZID=Brazil/East;VALUE=DATE-TIME:20230518T180000
DTEND;TZID=Brazil/East;VALUE=DATE-TIME:20230518T210000
DTSTAMP;VALUE=DATE-TIME:20260419T120711Z
UID:43d83995a8b6418e93994cd895430934@www.goiania.go.leg.br
CONTACT:VEREADOR IGOR FRANCO
CREATED;VALUE=DATE-TIME:20230329T202323Z
LAST-MODIFIED;VALUE=DATE-TIME:20230418T133125Z
LOCATION:PLENÁRIO TRAJANO GUIMARÃES
URL:https://www.goiania.go.leg.br/sala-de-imprensa/eventos/sessao-especial
 -em-homenagem-as-maes-de-autistas
END:VEVENT
BEGIN:VTIMEZONE
TZID:Brazil/East
X-LIC-LOCATION:Brazil/East
BEGIN:STANDARD
DTSTART;VALUE=DATE-TIME:20230225T230000
TZNAME:BRT
TZOFFSETFROM:-0200
TZOFFSETTO:-0300
END:STANDARD
END:VTIMEZONE
END:VCALENDAR
