BEGIN:VCALENDAR
VERSION:2.0
PRODID:-//Plone.org//NONSGML plone.app.event//EN
X-WR-TIMEZONE:Brazil/East
BEGIN:VEVENT
SUMMARY:SESSÃO ESPECIAL EM HOMENAGEM AS LUTAS MARCIAIS.
DTSTART;TZID=Brazil/East;VALUE=DATE-TIME:20200310T193000
DTEND;TZID=Brazil/East;VALUE=DATE-TIME:20200310T220000
DTSTAMP;VALUE=DATE-TIME:20260421T095606Z
UID:d7d23b468bda429e82df626d715046e2@www.goiania.go.leg.br
CONTACT:VEREADOR ÁLVARO DA UNIVERSO
CREATED;VALUE=DATE-TIME:20200206T151321Z
LAST-MODIFIED;VALUE=DATE-TIME:20200206T151333Z
LOCATION:PLENÁRIO TRAJANO GUIMARÃES
URL:https://www.goiania.go.leg.br/sala-de-imprensa/eventos/sessao-especial
 -em-homenagem-as-lutas-marciais
END:VEVENT
BEGIN:VTIMEZONE
TZID:Brazil/East
X-LIC-LOCATION:Brazil/East
BEGIN:STANDARD
DTSTART;VALUE=DATE-TIME:20200215T230000
TZNAME:BRT
TZOFFSETFROM:-0200
TZOFFSETTO:-0300
END:STANDARD
END:VTIMEZONE
END:VCALENDAR
