BEGIN:VCALENDAR
VERSION:2.0
PRODID:-//Plone.org//NONSGML plone.app.event//EN
X-WR-TIMEZONE:Brazil/East
BEGIN:VEVENT
SUMMARY:SESSÃO ESPECIAL EM HOMENAGEM ÀS FORÇAS DE SEGURANÇA.
DTSTART;TZID=Brazil/East;VALUE=DATE-TIME:20230414T090000
DTEND;TZID=Brazil/East;VALUE=DATE-TIME:20230414T120000
DTSTAMP;VALUE=DATE-TIME:20260421T045614Z
UID:a29058dd93f741eb85723d9aa320a87e@www.goiania.go.leg.br
CONTACT:VEREADOR ISAÍAS RIBEIRO
CREATED;VALUE=DATE-TIME:20230201T122839Z
LAST-MODIFIED;VALUE=DATE-TIME:20230201T122847Z
LOCATION:PLENÁRIO TRAJANO GUIMARÃES
URL:https://www.goiania.go.leg.br/sala-de-imprensa/eventos/sessao-especial
 -em-homenagem-as-forcas-de-seguranca-1
END:VEVENT
BEGIN:VTIMEZONE
TZID:Brazil/East
X-LIC-LOCATION:Brazil/East
BEGIN:STANDARD
DTSTART;VALUE=DATE-TIME:20230225T230000
TZNAME:BRT
TZOFFSETFROM:-0200
TZOFFSETTO:-0300
END:STANDARD
END:VTIMEZONE
END:VCALENDAR
