BEGIN:VCALENDAR
VERSION:2.0
PRODID:-//Plone.org//NONSGML plone.app.event//EN
X-WR-TIMEZONE:Brazil/East
BEGIN:VEVENT
SUMMARY:SESSÃO ESPECIAL EM HOMENAGEM AOS ITAPACINOS RESIDENTES EM GOIÂNI
 A.
DTSTART;TZID=Brazil/East;VALUE=DATE-TIME:20231114T190000
DTEND;TZID=Brazil/East;VALUE=DATE-TIME:20231114T220000
DTSTAMP;VALUE=DATE-TIME:20260421T054332Z
UID:b77199d9dd184af29c5b3bd012aacd23@www.goiania.go.leg.br
CONTACT:VEREADOR CABO SENNA
CREATED;VALUE=DATE-TIME:20230207T123841Z
LAST-MODIFIED;VALUE=DATE-TIME:20230913T104620Z
LOCATION:PLENÁRIO TRAJANO GUIMARÃES
URL:https://www.goiania.go.leg.br/sala-de-imprensa/eventos/sessao-especial
 -em-homenagem-aos-trabalhadores-entregador-de-aplicativos-02-rodas
END:VEVENT
BEGIN:VTIMEZONE
TZID:Brazil/East
X-LIC-LOCATION:Brazil/East
BEGIN:DAYLIGHT
DTSTART;VALUE=DATE-TIME:20231015T010000
TZNAME:BRST
TZOFFSETFROM:-0300
TZOFFSETTO:-0200
END:DAYLIGHT
END:VTIMEZONE
END:VCALENDAR
