BEGIN:VCALENDAR
VERSION:2.0
PRODID:-//Plone.org//NONSGML plone.app.event//EN
X-WR-TIMEZONE:Brazil/East
BEGIN:VEVENT
SUMMARY:SESSÃO ESPECIAL EM HOMENAGEM AOS TRABALHADORES E TRABALHADORAS DA
  BELEZA.
DTSTART;TZID=Brazil/East;VALUE=DATE-TIME:20241008T190000
DTEND;TZID=Brazil/East;VALUE=DATE-TIME:20241008T220000
DTSTAMP;VALUE=DATE-TIME:20260421T083024Z
UID:f881b5556082475e8094c32fd618254b@www.goiania.go.leg.br
CONTACT:VEREADOR ANDERSON SALES - BOKÃO
CREATED;VALUE=DATE-TIME:20240222T130711Z
LAST-MODIFIED;VALUE=DATE-TIME:20240916T122934Z
LOCATION:PLENÁRIO TRAJANO GUIMARÃES
URL:https://www.goiania.go.leg.br/sala-de-imprensa/eventos/sessao-especial
 -em-homenagem-aos-trabalhadores-da-beleza
END:VEVENT
BEGIN:VTIMEZONE
TZID:Brazil/East
X-LIC-LOCATION:Brazil/East
BEGIN:STANDARD
DTSTART;VALUE=DATE-TIME:20240217T230000
TZNAME:BRT
TZOFFSETFROM:-0200
TZOFFSETTO:-0300
END:STANDARD
END:VTIMEZONE
END:VCALENDAR
