BEGIN:VCALENDAR
VERSION:2.0
PRODID:-//Plone.org//NONSGML plone.app.event//EN
X-WR-TIMEZONE:Brazil/East
BEGIN:VEVENT
SUMMARY:SESSÃO ESPECIAL EM HOMENAGEM AOS SÍNDICOS E PORTEIROS.
DTSTART;TZID=Brazil/East;VALUE=DATE-TIME:20260618T170000
DTEND;TZID=Brazil/East;VALUE=DATE-TIME:20260618T190000
DTSTAMP;VALUE=DATE-TIME:20260420T091352Z
UID:9ac696bdab6f4d0e82ad0269980387ea@www.goiania.go.leg.br
CONTACT:VEREADOR THIALU GUIOTTI
CREATED;VALUE=DATE-TIME:20260212T120510Z
LAST-MODIFIED;VALUE=DATE-TIME:20260212T120555Z
LOCATION:AUDITÓRIO JAIME CÂMARA
URL:https://www.goiania.go.leg.br/sala-de-imprensa/eventos/sessao-especial
 -em-homenagem-aos-sindicos-e-porteiros
END:VEVENT
BEGIN:VTIMEZONE
TZID:Brazil/East
X-LIC-LOCATION:Brazil/East
BEGIN:STANDARD
DTSTART;VALUE=DATE-TIME:20260221T230000
TZNAME:BRT
TZOFFSETFROM:-0200
TZOFFSETTO:-0300
END:STANDARD
END:VTIMEZONE
END:VCALENDAR
