BEGIN:VCALENDAR
VERSION:2.0
PRODID:-//Plone.org//NONSGML plone.app.event//EN
X-WR-TIMEZONE:Brazil/East
BEGIN:VEVENT
SUMMARY:SESSÃO ESPECIAL EM HOMENAGEM AOS SERVIDORES QUE FAZEM A DIFERENÇ
 A NO MINISTÉRIO PÚBLICO DO ESTADO DE GOIÁS.
DTSTART;TZID=Brazil/East;VALUE=DATE-TIME:20230328T170000
DTEND;TZID=Brazil/East;VALUE=DATE-TIME:20230328T190000
DTSTAMP;VALUE=DATE-TIME:20260422T054955Z
UID:f80cefe335b94fac90f074b37c0d6d95@www.goiania.go.leg.br
CONTACT:VEREADOR KLEYBE MORAIS
CREATED;VALUE=DATE-TIME:20230207T132545Z
LAST-MODIFIED;VALUE=DATE-TIME:20230207T132628Z
LOCATION:PLENÁRIO TRAJANO GUIMARÃES
URL:https://www.goiania.go.leg.br/sala-de-imprensa/eventos/sessao-especial
 -em-homenagem-aos-servidores-que-fazem-a-diferenca-no-ministerio-publico-d
 o-estado-de-goias
END:VEVENT
BEGIN:VTIMEZONE
TZID:Brazil/East
X-LIC-LOCATION:Brazil/East
BEGIN:STANDARD
DTSTART;VALUE=DATE-TIME:20230225T230000
TZNAME:BRT
TZOFFSETFROM:-0200
TZOFFSETTO:-0300
END:STANDARD
END:VTIMEZONE
END:VCALENDAR
