BEGIN:VCALENDAR
VERSION:2.0
PRODID:-//Plone.org//NONSGML plone.app.event//EN
X-WR-TIMEZONE:Brazil/East
BEGIN:VEVENT
SUMMARY:SESSÃO ESPECIAL EM HOMENAGEM AOS SERVIDORES PÚBLICOS.
DTSTART;TZID=Brazil/East;VALUE=DATE-TIME:20251031T090000
DTEND;TZID=Brazil/East;VALUE=DATE-TIME:20251031T120000
DTSTAMP;VALUE=DATE-TIME:20260421T164343Z
UID:90a37a356704452fa46d64b24387a8d4@www.goiania.go.leg.br
CONTACT:VEREADOR SARGENTO NOVANDIR
CREATED;VALUE=DATE-TIME:20251014T115741Z
LAST-MODIFIED;VALUE=DATE-TIME:20251014T115816Z
LOCATION:PLENÁRIO TRAJANO GUIMARÃES
URL:https://www.goiania.go.leg.br/sala-de-imprensa/eventos/sessao-especial
 -em-homenagem-aos-servidores-publicos-1
END:VEVENT
BEGIN:VTIMEZONE
TZID:Brazil/East
X-LIC-LOCATION:Brazil/East
BEGIN:DAYLIGHT
DTSTART;VALUE=DATE-TIME:20251019T010000
TZNAME:BRST
TZOFFSETFROM:-0300
TZOFFSETTO:-0200
END:DAYLIGHT
END:VTIMEZONE
END:VCALENDAR
