BEGIN:VCALENDAR
VERSION:2.0
PRODID:-//Plone.org//NONSGML plone.app.event//EN
X-WR-TIMEZONE:Brazil/East
BEGIN:VEVENT
SUMMARY:SESSÃO ESPECIAL EM HOMENAGEM AOS SERVIDORES DO COPOM.
DTSTART;TZID=Brazil/East;VALUE=DATE-TIME:20191108T090000
DTEND;TZID=Brazil/East;VALUE=DATE-TIME:20191108T120000
DTSTAMP;VALUE=DATE-TIME:20260423T053203Z
UID:cdcfb76c17494f20950247b785f0d83e@www.goiania.go.leg.br
CONTACT:VEREADOR CABO SENNA
CREATED;VALUE=DATE-TIME:20191017T215558Z
LAST-MODIFIED;VALUE=DATE-TIME:20191017T215607Z
LOCATION:PLENÁRIO TRAJANO GUIMARÃES
URL:https://www.goiania.go.leg.br/sala-de-imprensa/eventos/sessao-especial
 -em-homenagem-aos-servidores-do-copom
END:VEVENT
BEGIN:VTIMEZONE
TZID:Brazil/East
X-LIC-LOCATION:Brazil/East
BEGIN:DAYLIGHT
DTSTART;VALUE=DATE-TIME:20191020T010000
TZNAME:BRST
TZOFFSETFROM:-0300
TZOFFSETTO:-0200
END:DAYLIGHT
END:VTIMEZONE
END:VCALENDAR
