BEGIN:VCALENDAR
VERSION:2.0
PRODID:-//Plone.org//NONSGML plone.app.event//EN
X-WR-TIMEZONE:Brazil/East
BEGIN:VEVENT
SUMMARY:SESSÃO ESPECIAL EM HOMENAGEM AOS SERVIDORES COM MAIS DE 15 ANOS D
 E SERVIÇOS PRESTADOS NA CÂMARA MUNICIPAL DE GOIÂNIA.
DTSTART;TZID=Brazil/East;VALUE=DATE-TIME:20231025T100000
DTEND;TZID=Brazil/East;VALUE=DATE-TIME:20231025T120000
DTSTAMP;VALUE=DATE-TIME:20260419T174628Z
UID:3fa87062316a495f9513e860d2947bb9@www.goiania.go.leg.br
CONTACT:VEREADOR ANSELMO PEREIRA
CREATED;VALUE=DATE-TIME:20231005T104632Z
LAST-MODIFIED;VALUE=DATE-TIME:20231025T111551Z
LOCATION:AUDITÓRIO CARLOS EURICO
URL:https://www.goiania.go.leg.br/sala-de-imprensa/eventos/sessao-especial
 -em-homenagem-aos-servidores-com-mais-de-15-anos-de-servicos-prestados-na-
 camara-municipal-de-goiania
END:VEVENT
BEGIN:VTIMEZONE
TZID:Brazil/East
X-LIC-LOCATION:Brazil/East
BEGIN:DAYLIGHT
DTSTART;VALUE=DATE-TIME:20231015T010000
TZNAME:BRST
TZOFFSETFROM:-0300
TZOFFSETTO:-0200
END:DAYLIGHT
END:VTIMEZONE
END:VCALENDAR
