BEGIN:VCALENDAR
VERSION:2.0
PRODID:-//Plone.org//NONSGML plone.app.event//EN
X-WR-TIMEZONE:Brazil/East
BEGIN:VEVENT
SUMMARY:SESSÃO ESPECIAL EM HOMENAGEM AOS SERVIDORES APOSENTADOS E PARTICI
 PANTES DO PROGRAMA NOVOS CAMINHOS.
DTSTART;TZID=Brazil/East;VALUE=DATE-TIME:20220603T090000
DTEND;TZID=Brazil/East;VALUE=DATE-TIME:20220603T120000
DTSTAMP;VALUE=DATE-TIME:20260422T021718Z
UID:6bdcbcf3e1f1473ba556dfa7553f72d3@www.goiania.go.leg.br
CONTACT:VEREADOR ANSELMO PEREIRA
CREATED;VALUE=DATE-TIME:20220208T152620Z
LAST-MODIFIED;VALUE=DATE-TIME:20220322T124055Z
LOCATION:PLENÁRIO  TRAJANO GUIMARÃES
URL:https://www.goiania.go.leg.br/sala-de-imprensa/eventos/sessao-especial
 -em-homenagem-aos-servidores-aposentados-e-participantes-do-programa-novos
 -caminhos
END:VEVENT
BEGIN:VTIMEZONE
TZID:Brazil/East
X-LIC-LOCATION:Brazil/East
BEGIN:STANDARD
DTSTART;VALUE=DATE-TIME:20220219T230000
TZNAME:BRT
TZOFFSETFROM:-0200
TZOFFSETTO:-0300
END:STANDARD
END:VTIMEZONE
END:VCALENDAR
