BEGIN:VCALENDAR
VERSION:2.0
PRODID:-//Plone.org//NONSGML plone.app.event//EN
X-WR-TIMEZONE:Brazil/East
BEGIN:VEVENT
SUMMARY:SESSÃO ESPECIAL EM HOMENAGEM AOS PROFISSIONAIS DA SEGURANÇA PÚB
 LICA DE GOIÂNIA E REGIÃO METROPOLITANA.
DTSTART;TZID=Brazil/East;VALUE=DATE-TIME:20260429T160000
DTEND;TZID=Brazil/East;VALUE=DATE-TIME:20260429T180000
DTSTAMP;VALUE=DATE-TIME:20260420T102731Z
UID:0d5e18a2127147d4b9f3175bfbda2eaf@www.goiania.go.leg.br
CONTACT:VEREADORA AAVA SANTIAGO
CREATED;VALUE=DATE-TIME:20260310T104539Z
LAST-MODIFIED;VALUE=DATE-TIME:20260415T211554Z
LOCATION:PLENÁRIO TRAJANO GUIMARÃES
URL:https://www.goiania.go.leg.br/sala-de-imprensa/eventos/sessao-especial
 -em-homenagem-aos-radiologistas
END:VEVENT
BEGIN:VTIMEZONE
TZID:Brazil/East
X-LIC-LOCATION:Brazil/East
BEGIN:STANDARD
DTSTART;VALUE=DATE-TIME:20260221T230000
TZNAME:BRT
TZOFFSETFROM:-0200
TZOFFSETTO:-0300
END:STANDARD
END:VTIMEZONE
END:VCALENDAR
