BEGIN:VCALENDAR
VERSION:2.0
PRODID:-//Plone.org//NONSGML plone.app.event//EN
X-WR-TIMEZONE:Brazil/East
BEGIN:VEVENT
SUMMARY:SESSÃO ESPECIAL EM HOMENAGEM AOS PSICÓLOGOS DO MUNICÍPIO DE GOI
 ÂNIA.
DTSTART;TZID=Brazil/East;VALUE=DATE-TIME:20160819T193000
DTEND;TZID=Brazil/East;VALUE=DATE-TIME:20160819T220000
DTSTAMP;VALUE=DATE-TIME:20260421T043002Z
UID:575963e27e024e7aa5f95edf08f6459f@www.goiania.go.leg.br
CONTACT:VEREADOR EUDES VIGOR
CREATED;VALUE=DATE-TIME:20171208T111312Z
LAST-MODIFIED;VALUE=DATE-TIME:20171208T112923Z
LOCATION:PLENÁRIO TRAJANO GUIMARÃES
URL:https://www.goiania.go.leg.br/sala-de-imprensa/eventos/sessao-especial
 -em-homenagem-aos-psicologos-do-municipio-de-goiania
END:VEVENT
BEGIN:VTIMEZONE
TZID:Brazil/East
X-LIC-LOCATION:Brazil/East
BEGIN:STANDARD
DTSTART;VALUE=DATE-TIME:20160220T230000
TZNAME:BRT
TZOFFSETFROM:-0200
TZOFFSETTO:-0300
END:STANDARD
END:VTIMEZONE
END:VCALENDAR
