BEGIN:VCALENDAR
VERSION:2.0
PRODID:-//Plone.org//NONSGML plone.app.event//EN
X-WR-TIMEZONE:Brazil/East
BEGIN:VEVENT
SUMMARY:SESSÃO ESPECIAL EM HOMENAGEM AOS PSICÓLOGOS
DTSTART;TZID=Brazil/East;VALUE=DATE-TIME:20211022T133000
DTEND;TZID=Brazil/East;VALUE=DATE-TIME:20211022T180100
DTSTAMP;VALUE=DATE-TIME:20260420T093308Z
UID:a52dcadad5fe443e9e6df8ab9067b2e9@www.goiania.go.leg.br
CONTACT:VEREADOR THIALU GUIOTTI
CREATED;VALUE=DATE-TIME:20211013T130708Z
LAST-MODIFIED;VALUE=DATE-TIME:20211021T143156Z
LOCATION:AUDITÓRIO CARLOS EURICO
URL:https://www.goiania.go.leg.br/sala-de-imprensa/eventos/sessao-especial
 -em-homenagem-aos-psicologos-1
END:VEVENT
BEGIN:VTIMEZONE
TZID:Brazil/East
X-LIC-LOCATION:Brazil/East
BEGIN:DAYLIGHT
DTSTART;VALUE=DATE-TIME:20211017T010000
TZNAME:BRST
TZOFFSETFROM:-0300
TZOFFSETTO:-0200
END:DAYLIGHT
END:VTIMEZONE
END:VCALENDAR
