BEGIN:VCALENDAR
VERSION:2.0
PRODID:-//Plone.org//NONSGML plone.app.event//EN
X-WR-TIMEZONE:Brazil/East
BEGIN:VEVENT
SUMMARY:SESSÃO ESPECIAL EM HOMENAGEM AOS PSICANALISTAS.
DTSTART;TZID=Brazil/East;VALUE=DATE-TIME:20240507T170000
DTEND;TZID=Brazil/East;VALUE=DATE-TIME:20240507T190000
DTSTAMP;VALUE=DATE-TIME:20260421T125006Z
UID:78e0bad52d524031b39a79e24c2c026e@www.goiania.go.leg.br
CONTACT:VEREADOR IGOR FRANCO E THIALU GUIOTTI
CREATED;VALUE=DATE-TIME:20240119T115218Z
LAST-MODIFIED;VALUE=DATE-TIME:20240424T114956Z
LOCATION:PLENÁRIO TRAJANO GUIMARÃES
URL:https://www.goiania.go.leg.br/sala-de-imprensa/eventos/sessao-especial
 -em-homenagem-aos-psicanalistas
END:VEVENT
BEGIN:VTIMEZONE
TZID:Brazil/East
X-LIC-LOCATION:Brazil/East
BEGIN:STANDARD
DTSTART;VALUE=DATE-TIME:20240217T230000
TZNAME:BRT
TZOFFSETFROM:-0200
TZOFFSETTO:-0300
END:STANDARD
END:VTIMEZONE
END:VCALENDAR
