BEGIN:VCALENDAR
VERSION:2.0
PRODID:-//Plone.org//NONSGML plone.app.event//EN
X-WR-TIMEZONE:Brazil/East
BEGIN:VEVENT
SUMMARY:SESSÃO ESPECIAL EM HOMENAGEM AOS PROTETORES DO CERRADO.
DTSTART;TZID=Brazil/East;VALUE=DATE-TIME:20251103T090000
DTEND;TZID=Brazil/East;VALUE=DATE-TIME:20251103T120000
DTSTAMP;VALUE=DATE-TIME:20260420T143832Z
UID:38492ea48d0e4544bd2c2c520b7204f2@www.goiania.go.leg.br
CONTACT:VEREADORA AAVA SANTIAGO
CREATED;VALUE=DATE-TIME:20250930T115107Z
LAST-MODIFIED;VALUE=DATE-TIME:20251007T112906Z
LOCATION:PLENÁRIO TRAJANO GUIMARÃES
URL:https://www.goiania.go.leg.br/sala-de-imprensa/eventos/sessao-especial
 -em-homenagem-aos-protetores-do-cerrado
END:VEVENT
BEGIN:VTIMEZONE
TZID:Brazil/East
X-LIC-LOCATION:Brazil/East
BEGIN:DAYLIGHT
DTSTART;VALUE=DATE-TIME:20251019T010000
TZNAME:BRST
TZOFFSETFROM:-0300
TZOFFSETTO:-0200
END:DAYLIGHT
END:VTIMEZONE
END:VCALENDAR
