BEGIN:VCALENDAR
VERSION:2.0
PRODID:-//Plone.org//NONSGML plone.app.event//EN
X-WR-TIMEZONE:Brazil/East
BEGIN:VEVENT
SUMMARY:SESSÃO ESPECIAL EM HOMENAGEM AOS PROFISSIONAIS QUE TRABALHAM COM 
 PORTADORES DE DOENÇAS RARAS.
DTSTART;TZID=Brazil/East;VALUE=DATE-TIME:20240223T090000
DTEND;TZID=Brazil/East;VALUE=DATE-TIME:20240223T120000
DTSTAMP;VALUE=DATE-TIME:20260421T112331Z
UID:d3f64f489ee0463c8cd5145ff0b6a0c8@www.goiania.go.leg.br
CONTACT:VEREADOR ISAIAS RIBEIRO
CREATED;VALUE=DATE-TIME:20240118T143333Z
LAST-MODIFIED;VALUE=DATE-TIME:20240118T143353Z
LOCATION:PLENÁRIO TRAJANO GUIMARÃES
URL:https://www.goiania.go.leg.br/sala-de-imprensa/eventos/sessao-especial
 -em-homenagem-aos-profissionais-que-trabalham-com-portadores-de-doencas-ra
 ras
END:VEVENT
BEGIN:VTIMEZONE
TZID:Brazil/East
X-LIC-LOCATION:Brazil/East
BEGIN:STANDARD
DTSTART;VALUE=DATE-TIME:20240217T230000
TZNAME:BRT
TZOFFSETFROM:-0200
TZOFFSETTO:-0300
END:STANDARD
END:VTIMEZONE
END:VCALENDAR
