BEGIN:VCALENDAR
VERSION:2.0
PRODID:-//Plone.org//NONSGML plone.app.event//EN
X-WR-TIMEZONE:Brazil/East
BEGIN:VEVENT
SUMMARY:SESSÃO ESPECIAL EM HOMENAGEM  AOS PROFISSIONAIS QUE ATUAM NA LINH
 A DE FRENTE EM DEFESA DOS DIREITOS DAS MULHERES E NO COMBATE À VIOLÊNCIA
  CONTRA A MULHER EM GOIÂNIA-GO.
DTSTART;TZID=Brazil/East;VALUE=DATE-TIME:20241122T170000
DTEND;TZID=Brazil/East;VALUE=DATE-TIME:20241122T210000
DTSTAMP;VALUE=DATE-TIME:20260420T010844Z
UID:b5215ed9edb94279a6f81bfbeadde69d@www.goiania.go.leg.br
CONTACT:VEREADOR SARGENTIO NOVANDIR
CREATED;VALUE=DATE-TIME:20241113T114713Z
LAST-MODIFIED;VALUE=DATE-TIME:20241113T114737Z
LOCATION:AUDITÓRIO JAIME CÂMARA
URL:https://www.goiania.go.leg.br/sala-de-imprensa/eventos/sessao-especial
 -em-homenagem-aos-profissionais-que-atuam-na-linha-de-frente-em-defesa-dos
 -direitos-das-mulheres-e-no-combate-a-violencia-contra-a-mulher-em-goiania
 -go
END:VEVENT
BEGIN:VTIMEZONE
TZID:Brazil/East
X-LIC-LOCATION:Brazil/East
BEGIN:DAYLIGHT
DTSTART;VALUE=DATE-TIME:20241020T010000
TZNAME:BRST
TZOFFSETFROM:-0300
TZOFFSETTO:-0200
END:DAYLIGHT
END:VTIMEZONE
END:VCALENDAR
