BEGIN:VCALENDAR
VERSION:2.0
PRODID:-//Plone.org//NONSGML plone.app.event//EN
X-WR-TIMEZONE:Brazil/East
BEGIN:VEVENT
SUMMARY:SESSÃO ESPECIAL EM HOMENAGEM AOS PROFISSIONAIS LÍDERES DE EQUIPE
  DE SAÚDE.
DTSTART;TZID=Brazil/East;VALUE=DATE-TIME:20240703T190000
DTEND;TZID=Brazil/East;VALUE=DATE-TIME:20240703T220000
DTSTAMP;VALUE=DATE-TIME:20260421T214630Z
UID:653b24cc7a0a4e0fa00dc650f7104017@www.goiania.go.leg.br
CONTACT:VEREADOR ROMÁRIO POLICARPO
CREATED;VALUE=DATE-TIME:20240612T141341Z
LAST-MODIFIED;VALUE=DATE-TIME:20240612T141357Z
LOCATION:AUDITÓRIO JAIME CÂMARA
URL:https://www.goiania.go.leg.br/sala-de-imprensa/eventos/sessao-especial
 -em-homenagem-aos-profissionais-lideres-de-equipe-de-saude-1
END:VEVENT
BEGIN:VTIMEZONE
TZID:Brazil/East
X-LIC-LOCATION:Brazil/East
BEGIN:STANDARD
DTSTART;VALUE=DATE-TIME:20240217T230000
TZNAME:BRT
TZOFFSETFROM:-0200
TZOFFSETTO:-0300
END:STANDARD
END:VTIMEZONE
END:VCALENDAR
