BEGIN:VCALENDAR
VERSION:2.0
PRODID:-//Plone.org//NONSGML plone.app.event//EN
X-WR-TIMEZONE:Brazil/East
BEGIN:VEVENT
SUMMARY:SESSÃO ESPECIAL EM HOMENAGEM AOS PROFISSIONAIS DESTAQUE NA ATUAÇ
 ÃO DE POLÍTICAS PÚBLICAS.
DTSTART;TZID=Brazil/East;VALUE=DATE-TIME:20250821T190000
DTEND;TZID=Brazil/East;VALUE=DATE-TIME:20250821T220000
DTSTAMP;VALUE=DATE-TIME:20260421T085436Z
UID:1e4c9038f8ae4115adc172ef4ecc7641@www.goiania.go.leg.br
CONTACT:VEREADOR FABRICIO ROSA
CREATED;VALUE=DATE-TIME:20250707T151956Z
LAST-MODIFIED;VALUE=DATE-TIME:20250707T152015Z
LOCATION:AUDITÓRIO CARLOS EURICO
URL:https://www.goiania.go.leg.br/sala-de-imprensa/eventos/sessao-especial
 -em-homenagem-aos-profissionais-destaque-na-atuacao-de-politicas-publicas
END:VEVENT
BEGIN:VTIMEZONE
TZID:Brazil/East
X-LIC-LOCATION:Brazil/East
BEGIN:STANDARD
DTSTART;VALUE=DATE-TIME:20250215T230000
TZNAME:BRT
TZOFFSETFROM:-0200
TZOFFSETTO:-0300
END:STANDARD
END:VTIMEZONE
END:VCALENDAR
