BEGIN:VCALENDAR
VERSION:2.0
PRODID:-//Plone.org//NONSGML plone.app.event//EN
X-WR-TIMEZONE:Brazil/East
BEGIN:VEVENT
SUMMARY:SESSÃO ESPECIAL EM HOMENAGEM AOS PROFISSIONAIS DE EVENTOS EM DEST
 AQUE.
DTSTART;TZID=Brazil/East;VALUE=DATE-TIME:20190528T193000
DTEND;TZID=Brazil/East;VALUE=DATE-TIME:20190528T220000
DTSTAMP;VALUE=DATE-TIME:20260424T164825Z
UID:911791a469ff447daf6758ac4b294757@www.goiania.go.leg.br
CONTACT:VEREADOR PAULO MAGALHÃES
CREATED;VALUE=DATE-TIME:20190411T101933Z
LAST-MODIFIED;VALUE=DATE-TIME:20190411T101955Z
LOCATION:PLENÁRIO TRAJANO GUIMARÃES
URL:https://www.goiania.go.leg.br/sala-de-imprensa/eventos/sessao-especial
 -em-homenagem-aos-profissionais-de-eventos-em-destaque
END:VEVENT
BEGIN:VTIMEZONE
TZID:Brazil/East
X-LIC-LOCATION:Brazil/East
BEGIN:STANDARD
DTSTART;VALUE=DATE-TIME:20190216T230000
TZNAME:BRT
TZOFFSETFROM:-0200
TZOFFSETTO:-0300
END:STANDARD
END:VTIMEZONE
END:VCALENDAR
