BEGIN:VCALENDAR
VERSION:2.0
PRODID:-//Plone.org//NONSGML plone.app.event//EN
X-WR-TIMEZONE:Brazil/East
BEGIN:VEVENT
SUMMARY:SESSÃO ESPECIAL EM HOMENAGEM AOS PROFISSIONAIS DE BELEZA.
DTSTART;TZID=Brazil/East;VALUE=DATE-TIME:20240321T190000
DTEND;TZID=Brazil/East;VALUE=DATE-TIME:20240321T220000
DTSTAMP;VALUE=DATE-TIME:20260421T095106Z
UID:bde0454c1ecf4f169d944e9c207c599f@www.goiania.go.leg.br
CONTACT:VEREADOR CABO SENNA
CREATED;VALUE=DATE-TIME:20240220T131415Z
LAST-MODIFIED;VALUE=DATE-TIME:20240229T122547Z
LOCATION:PLENÁRIO TRAJANO GUIMARÃES
URL:https://www.goiania.go.leg.br/sala-de-imprensa/eventos/sessao-especial
 -em-homenagem-aos-profissionais-de-beleza-1
END:VEVENT
BEGIN:VTIMEZONE
TZID:Brazil/East
X-LIC-LOCATION:Brazil/East
BEGIN:STANDARD
DTSTART;VALUE=DATE-TIME:20240217T230000
TZNAME:BRT
TZOFFSETFROM:-0200
TZOFFSETTO:-0300
END:STANDARD
END:VTIMEZONE
END:VCALENDAR
