BEGIN:VCALENDAR
VERSION:2.0
PRODID:-//Plone.org//NONSGML plone.app.event//EN
X-WR-TIMEZONE:Brazil/East
BEGIN:VEVENT
SUMMARY:SESSÃO ESPECIAL EM HOMENAGEM AOS PROFISSIONAIS DE APOIO ÀS ATIVI
 DADES DE ASSISTÊNCIA À SAÚDE.
DTSTART;TZID=Brazil/East;VALUE=DATE-TIME:20240627T190000
DTEND;TZID=Brazil/East;VALUE=DATE-TIME:20240627T220000
DTSTAMP;VALUE=DATE-TIME:20260420T225801Z
UID:f6c4cbf0330c44eba6423a34739f0f31@www.goiania.go.leg.br
CONTACT:VEREADOR ROMÁRIO POLICARPO
CREATED;VALUE=DATE-TIME:20240607T141440Z
LAST-MODIFIED;VALUE=DATE-TIME:20240607T141451Z
LOCATION:AUDITÓRIO JAIME CÂMARA
URL:https://www.goiania.go.leg.br/sala-de-imprensa/eventos/sessao-especial
 -em-homenagem-aos-profissionais-de-apoio-as-atividades-de-assistencia-a-sa
 ude
END:VEVENT
BEGIN:VTIMEZONE
TZID:Brazil/East
X-LIC-LOCATION:Brazil/East
BEGIN:STANDARD
DTSTART;VALUE=DATE-TIME:20240217T230000
TZNAME:BRT
TZOFFSETFROM:-0200
TZOFFSETTO:-0300
END:STANDARD
END:VTIMEZONE
END:VCALENDAR
