BEGIN:VCALENDAR
VERSION:2.0
PRODID:-//Plone.org//NONSGML plone.app.event//EN
X-WR-TIMEZONE:Brazil/East
BEGIN:VEVENT
SUMMARY:SESSÃO ESPECIAL EM HOMENAGEM  AOS PROFISSIONAIS DA EDUCAÇÃO INC
 LUSIVA.
DTSTART;TZID=Brazil/East;VALUE=DATE-TIME:20230426T170000
DTEND;TZID=Brazil/East;VALUE=DATE-TIME:20230426T190000
DTSTAMP;VALUE=DATE-TIME:20260419T174403Z
UID:b555144fe7fa4f1eb1a5492fbc48ea8b@www.goiania.go.leg.br
CONTACT:VEREADOR WILLIAN VELOSO
CREATED;VALUE=DATE-TIME:20230202T144129Z
LAST-MODIFIED;VALUE=DATE-TIME:20230202T144156Z
LOCATION:PLENÁRIO TRAJANO GUIMARÃES
URL:https://www.goiania.go.leg.br/sala-de-imprensa/eventos/sessao-especial
 -em-homenagem-aos-profissionais-da-educacao-inclusiva
END:VEVENT
BEGIN:VTIMEZONE
TZID:Brazil/East
X-LIC-LOCATION:Brazil/East
BEGIN:STANDARD
DTSTART;VALUE=DATE-TIME:20230225T230000
TZNAME:BRT
TZOFFSETFROM:-0200
TZOFFSETTO:-0300
END:STANDARD
END:VTIMEZONE
END:VCALENDAR
