BEGIN:VCALENDAR
VERSION:2.0
PRODID:-//Plone.org//NONSGML plone.app.event//EN
X-WR-TIMEZONE:Brazil/East
BEGIN:VEVENT
SUMMARY:SESSÃO ESPECIAL. EM HOMENAGEM AOS "PROFISSIONAIS DA EDUCAÇÃO".
DTSTART;TZID=Brazil/East;VALUE=DATE-TIME:20251020T180000
DTEND;TZID=Brazil/East;VALUE=DATE-TIME:20251020T220000
DTSTAMP;VALUE=DATE-TIME:20260419T231409Z
UID:a4690fecab2f49dda6e700361fd1e66a@www.goiania.go.leg.br
CONTACT:VEREADORA KATIA
CREATED;VALUE=DATE-TIME:20250211T135614Z
LAST-MODIFIED;VALUE=DATE-TIME:20250929T214913Z
LOCATION:AUDITÓRIO JAIME CÂMARA
URL:https://www.goiania.go.leg.br/sala-de-imprensa/eventos/sessao-especial
 -em-homenagem-aos-profissionais-da-educacao-1
END:VEVENT
BEGIN:VTIMEZONE
TZID:Brazil/East
X-LIC-LOCATION:Brazil/East
BEGIN:DAYLIGHT
DTSTART;VALUE=DATE-TIME:20251019T010000
TZNAME:BRST
TZOFFSETFROM:-0300
TZOFFSETTO:-0200
END:DAYLIGHT
END:VTIMEZONE
END:VCALENDAR
