BEGIN:VCALENDAR
VERSION:2.0
PRODID:-//Plone.org//NONSGML plone.app.event//EN
X-WR-TIMEZONE:Brazil/East
BEGIN:VEVENT
SUMMARY:SESSÃO ESPECIAL EM HOMENAGEM AOS PRODUTORES DE LEITE  E ENTREGA D
 A MEDALHA OTÁVIO LAGE.
DTSTART;TZID=Brazil/East;VALUE=DATE-TIME:20251006T170000
DTEND;TZID=Brazil/East;VALUE=DATE-TIME:20251006T190000
DTSTAMP;VALUE=DATE-TIME:20260421T095606Z
UID:771e382d02244979a6e4fca0aa36b451@www.goiania.go.leg.br
CONTACT:VEREADOR MAJOR VITOR HUGO
CREATED;VALUE=DATE-TIME:20250807T131014Z
LAST-MODIFIED;VALUE=DATE-TIME:20251006T191606Z
LOCATION:PLENÁRIO TRAJANO GUIMARÃES
URL:https://www.goiania.go.leg.br/sala-de-imprensa/eventos/sessao-especial
 -em-homenagem-aos-produtores-de-leite
END:VEVENT
BEGIN:VTIMEZONE
TZID:Brazil/East
X-LIC-LOCATION:Brazil/East
BEGIN:STANDARD
DTSTART;VALUE=DATE-TIME:20250215T230000
TZNAME:BRT
TZOFFSETFROM:-0200
TZOFFSETTO:-0300
END:STANDARD
END:VTIMEZONE
END:VCALENDAR
