BEGIN:VCALENDAR
VERSION:2.0
PRODID:-//Plone.org//NONSGML plone.app.event//EN
X-WR-TIMEZONE:Brazil/East
BEGIN:VEVENT
SUMMARY:SESSÃO ESPECIAL EM HOMENAGEM AOS POLICIAIS CIVIS LOTADOS NA CENTR
 AL GERAL DE FLAGRANTES DE GOIÂNIA.
DTSTART;TZID=Brazil/East;VALUE=DATE-TIME:20230815T170000
DTEND;TZID=Brazil/East;VALUE=DATE-TIME:20230815T190000
DTSTAMP;VALUE=DATE-TIME:20260423T053417Z
UID:5f364df88a1a476d86e5500f10083a09@www.goiania.go.leg.br
CONTACT:VEREADORA SABRINA GARCEZ
CREATED;VALUE=DATE-TIME:20230803T141957Z
LAST-MODIFIED;VALUE=DATE-TIME:20230803T142348Z
LOCATION:PLENÁRIO TRAJANO GUIMARÃES
URL:https://www.goiania.go.leg.br/sala-de-imprensa/eventos/sessao-especial
 -em-homenagem-aos-policiais-civis-lotados-na-central-geral-de-flagrantes-d
 e-goiania
END:VEVENT
BEGIN:VTIMEZONE
TZID:Brazil/East
X-LIC-LOCATION:Brazil/East
BEGIN:STANDARD
DTSTART;VALUE=DATE-TIME:20230225T230000
TZNAME:BRT
TZOFFSETFROM:-0200
TZOFFSETTO:-0300
END:STANDARD
END:VTIMEZONE
END:VCALENDAR
