BEGIN:VCALENDAR
VERSION:2.0
PRODID:-//Plone.org//NONSGML plone.app.event//EN
X-WR-TIMEZONE:Brazil/East
BEGIN:VEVENT
SUMMARY:SESSÃO ESPECIAL EM HOMENAGEM AOS PATRIOTAS  E OUTORGA DO TÍTULO 
 DE CIDADÃO GOIANIENSE AOS SENHORES LUCIANO LORENZINI ZUCCO E CLEOVAN SIQU
 EIRA AMORIM.
DTSTART;TZID=Brazil/East;VALUE=DATE-TIME:20260616T190000
DTEND;TZID=Brazil/East;VALUE=DATE-TIME:20260616T220000
DTSTAMP;VALUE=DATE-TIME:20260420T075258Z
UID:5abeb9466e804184a40e1fcaef1938d3@www.goiania.go.leg.br
CONTACT:VEREADOR MAJOR VITOR HUGO
CREATED;VALUE=DATE-TIME:20260202T124104Z
LAST-MODIFIED;VALUE=DATE-TIME:20260310T125835Z
LOCATION:PLENÁRIO TRAJANO GUIMARÃES
URL:https://www.goiania.go.leg.br/sala-de-imprensa/eventos/sessao-especial
 -em-homenagem-aos-patriotas
END:VEVENT
BEGIN:VTIMEZONE
TZID:Brazil/East
X-LIC-LOCATION:Brazil/East
BEGIN:STANDARD
DTSTART;VALUE=DATE-TIME:20260221T230000
TZNAME:BRT
TZOFFSETFROM:-0200
TZOFFSETTO:-0300
END:STANDARD
END:VTIMEZONE
END:VCALENDAR
