BEGIN:VCALENDAR
VERSION:2.0
PRODID:-//Plone.org//NONSGML plone.app.event//EN
X-WR-TIMEZONE:Brazil/East
BEGIN:VEVENT
SUMMARY:SESSÃO ESPECIAL EM HOMENAGEM AOS ODONTÓLOGOS.
DTSTART;TZID=Brazil/East;VALUE=DATE-TIME:20251007T170000
DTEND;TZID=Brazil/East;VALUE=DATE-TIME:20251007T190000
DTSTAMP;VALUE=DATE-TIME:20260419T174324Z
UID:eeb049a651e34dd2aec1e5ef302f4e06@www.goiania.go.leg.br
CONTACT:VEREADOR THIALU GUIOTTI E LÉO JOSÉ
CREATED;VALUE=DATE-TIME:20250212T141801Z
LAST-MODIFIED;VALUE=DATE-TIME:20250311T154425Z
LOCATION:PLENÁRIO TRAJANO GUIMARÃES
URL:https://www.goiania.go.leg.br/sala-de-imprensa/eventos/sessao-especial
 -em-homenagem-aos-odontologos
END:VEVENT
BEGIN:VTIMEZONE
TZID:Brazil/East
X-LIC-LOCATION:Brazil/East
BEGIN:STANDARD
DTSTART;VALUE=DATE-TIME:20250215T230000
TZNAME:BRT
TZOFFSETFROM:-0200
TZOFFSETTO:-0300
END:STANDARD
END:VTIMEZONE
END:VCALENDAR
