BEGIN:VCALENDAR
VERSION:2.0
PRODID:-//Plone.org//NONSGML plone.app.event//EN
X-WR-TIMEZONE:Brazil/East
BEGIN:VEVENT
SUMMARY:SESSÃO ESPECIAL EM HOMENAGEM AOS MILITARES DESTAQUE E OUTORGA DA 
 MEDALHA VENERANDO DE FREITAS BORGES.
DTSTART;TZID=Brazil/East;VALUE=DATE-TIME:20260908T170000
DTEND;TZID=Brazil/East;VALUE=DATE-TIME:20260908T190000
DTSTAMP;VALUE=DATE-TIME:20260419T161738Z
UID:b905f97f6ab343ad89532ec2f252ed3d@www.goiania.go.leg.br
CONTACT:VEREADOR CABO SENNA
CREATED;VALUE=DATE-TIME:20260325T144018Z
LAST-MODIFIED;VALUE=DATE-TIME:20260325T144205Z
LOCATION:AUDITÓRIO JAIME CÂMARA
URL:https://www.goiania.go.leg.br/sala-de-imprensa/eventos/sessao-especial
 -em-homenagem-aos-militares-destaque-e-outorga-da-medalha-venerando-de-fre
 ias-borges
END:VEVENT
BEGIN:VTIMEZONE
TZID:Brazil/East
X-LIC-LOCATION:Brazil/East
BEGIN:STANDARD
DTSTART;VALUE=DATE-TIME:20260221T230000
TZNAME:BRT
TZOFFSETFROM:-0200
TZOFFSETTO:-0300
END:STANDARD
END:VTIMEZONE
END:VCALENDAR
