BEGIN:VCALENDAR
VERSION:2.0
PRODID:-//Plone.org//NONSGML plone.app.event//EN
X-WR-TIMEZONE:Brazil/East
BEGIN:VEVENT
SUMMARY:SESSÃO ESPECIAL EM HOMENAGEM AOS MILITARES DA RESERVA E OUTORGA D
 A MEDALHA IDEVANDIR ANTÔNIO DA SILVA.
DTSTART;TZID=Brazil/East;VALUE=DATE-TIME:20260914T190000
DTEND;TZID=Brazil/East;VALUE=DATE-TIME:20260914T220000
DTSTAMP;VALUE=DATE-TIME:20260422T002434Z
UID:efaeeff99355451983b579473f8f2a49@www.goiania.go.leg.br
CONTACT:VEREADOR CABO SENNA
CREATED;VALUE=DATE-TIME:20260325T144422Z
LAST-MODIFIED;VALUE=DATE-TIME:20260325T144501Z
LOCATION:AUDITÓRIO JAIME CÂMARA
URL:https://www.goiania.go.leg.br/sala-de-imprensa/eventos/sessao-especial
 -em-homenagem-aos-militares-da-reserva-e-outorga-da-medalha-idevandir-anto
 nio-da-silva
END:VEVENT
BEGIN:VTIMEZONE
TZID:Brazil/East
X-LIC-LOCATION:Brazil/East
BEGIN:STANDARD
DTSTART;VALUE=DATE-TIME:20260221T230000
TZNAME:BRT
TZOFFSETFROM:-0200
TZOFFSETTO:-0300
END:STANDARD
END:VTIMEZONE
END:VCALENDAR
