BEGIN:VCALENDAR
VERSION:2.0
PRODID:-//Plone.org//NONSGML plone.app.event//EN
X-WR-TIMEZONE:Brazil/East
BEGIN:VEVENT
SUMMARY:SESSÃO ESPECIAL EM HOMENAGEM AOS ENGENHEIROS E MESTRES DE OBRAS.
DTSTART;TZID=Brazil/East;VALUE=DATE-TIME:20251128T190000
DTEND;TZID=Brazil/East;VALUE=DATE-TIME:20251128T220000
DTSTAMP;VALUE=DATE-TIME:20260419T174324Z
UID:0d9b47d2e503486188e5ab52eb25f556@www.goiania.go.leg.br
CONTACT:VEREADOR GEVERSON ABEL
CREATED;VALUE=DATE-TIME:20250212T145405Z
LAST-MODIFIED;VALUE=DATE-TIME:20251106T214840Z
LOCATION:AUDITÓRIO JAIME CÂMARA
URL:https://www.goiania.go.leg.br/sala-de-imprensa/eventos/sessao-especial
 -em-homenagem-aos-mestres-de-obras
END:VEVENT
BEGIN:VTIMEZONE
TZID:Brazil/East
X-LIC-LOCATION:Brazil/East
BEGIN:DAYLIGHT
DTSTART;VALUE=DATE-TIME:20251019T010000
TZNAME:BRST
TZOFFSETFROM:-0300
TZOFFSETTO:-0200
END:DAYLIGHT
END:VTIMEZONE
END:VCALENDAR
