BEGIN:VCALENDAR
VERSION:2.0
PRODID:-//Plone.org//NONSGML plone.app.event//EN
X-WR-TIMEZONE:Brazil/East
BEGIN:VEVENT
SUMMARY:SESSÃO ESPECIAL EM HOMENAGEM AOS MELHORES DO ANO COELHO FUTEBOL E
  FUTSAL.
DTSTART;TZID=Brazil/East;VALUE=DATE-TIME:20251119T180000
DTEND;TZID=Brazil/East;VALUE=DATE-TIME:20251119T210000
DTSTAMP;VALUE=DATE-TIME:20260421T184407Z
UID:bf9a4dfe6e944059a49c26b1ac0cdf05@www.goiania.go.leg.br
CONTACT:VEREADOR BESSA
CREATED;VALUE=DATE-TIME:20250702T200914Z
LAST-MODIFIED;VALUE=DATE-TIME:20251126T114630Z
LOCATION:AUDITÓRIO JAIME CÂMARA
URL:https://www.goiania.go.leg.br/sala-de-imprensa/eventos/sessao-especial
 -em-homenagem-aos-melhores-do-ano-coelho-futebol-e-futsal-1
END:VEVENT
BEGIN:VTIMEZONE
TZID:Brazil/East
X-LIC-LOCATION:Brazil/East
BEGIN:DAYLIGHT
DTSTART;VALUE=DATE-TIME:20251019T010000
TZNAME:BRST
TZOFFSETFROM:-0300
TZOFFSETTO:-0200
END:DAYLIGHT
END:VTIMEZONE
END:VCALENDAR
