BEGIN:VCALENDAR
VERSION:2.0
PRODID:-//Plone.org//NONSGML plone.app.event//EN
X-WR-TIMEZONE:Brazil/East
BEGIN:VEVENT
SUMMARY:SESSÃO ESPECIAL EM HOMENAGEM AOS MARATONISTAS E MEIO-MARATONISTAS
 .
DTSTART;TZID=Brazil/East;VALUE=DATE-TIME:20240405T170000
DTEND;TZID=Brazil/East;VALUE=DATE-TIME:20240405T190000
DTSTAMP;VALUE=DATE-TIME:20260420T021510Z
UID:d2e3e34a03a94cbc99f504abbf644903@www.goiania.go.leg.br
CONTACT:VEREADOR THIALU GUIOTTI
CREATED;VALUE=DATE-TIME:20240402T104737Z
LAST-MODIFIED;VALUE=DATE-TIME:20240402T104751Z
LOCATION:PLENÁRIO TRAJANO GUIMARÃES
URL:https://www.goiania.go.leg.br/sala-de-imprensa/eventos/sessao-especial
 -em-homenagem-aos-maratonistas-e-meio-maratonistas-1
END:VEVENT
BEGIN:VTIMEZONE
TZID:Brazil/East
X-LIC-LOCATION:Brazil/East
BEGIN:STANDARD
DTSTART;VALUE=DATE-TIME:20240217T230000
TZNAME:BRT
TZOFFSETFROM:-0200
TZOFFSETTO:-0300
END:STANDARD
END:VTIMEZONE
END:VCALENDAR
