BEGIN:VCALENDAR
VERSION:2.0
PRODID:-//Plone.org//NONSGML plone.app.event//EN
X-WR-TIMEZONE:Brazil/East
BEGIN:VEVENT
SUMMARY:SESSÃO ESPECIAL EM HOMENAGEM AOS LOJISTAS E ASSOCIAÇÕES DO CINT
 URÃO DA MODA.
DTSTART;TZID=Brazil/East;VALUE=DATE-TIME:20230703T090000
DTEND;TZID=Brazil/East;VALUE=DATE-TIME:20230703T120000
DTSTAMP;VALUE=DATE-TIME:20260420T131811Z
UID:b8997905fff94a17ba41fe54b6e64628@www.goiania.go.leg.br
CONTACT:VEREADOR DANILO ARRAES
CREATED;VALUE=DATE-TIME:20230621T203330Z
LAST-MODIFIED;VALUE=DATE-TIME:20230621T203356Z
LOCATION:PLENÁRIO TRAJANO GUIMARÃES
URL:https://www.goiania.go.leg.br/sala-de-imprensa/eventos/sessao-especial
 -em-homenagem-aos-lojistas-e-associacoes-do-cinturao-da-moda
END:VEVENT
BEGIN:VTIMEZONE
TZID:Brazil/East
X-LIC-LOCATION:Brazil/East
BEGIN:STANDARD
DTSTART;VALUE=DATE-TIME:20230225T230000
TZNAME:BRT
TZOFFSETFROM:-0200
TZOFFSETTO:-0300
END:STANDARD
END:VTIMEZONE
END:VCALENDAR
