BEGIN:VCALENDAR
VERSION:2.0
PRODID:-//Plone.org//NONSGML plone.app.event//EN
X-WR-TIMEZONE:Brazil/East
BEGIN:VEVENT
SUMMARY:SESSÃO ESPECIAL EM HOMENAGEM AOS JOVENS DE EXPRESSÃO
DTSTART;TZID=Brazil/East;VALUE=DATE-TIME:20180813T193000
DTEND;TZID=Brazil/East;VALUE=DATE-TIME:20180813T220000
DTSTAMP;VALUE=DATE-TIME:20260423T065845Z
UID:b0858e1972cf4abb9fed42a0d9e68a6e@www.goiania.go.leg.br
CONTACT:VEREADORA LÉIA KLEBIA
CREATED;VALUE=DATE-TIME:20180802T153751Z
LAST-MODIFIED;VALUE=DATE-TIME:20180802T153839Z
LOCATION:PLENÁRIO TRAJANO GUIMARÃES
URL:https://www.goiania.go.leg.br/sala-de-imprensa/eventos/sessao-especial
 -em-homenagem-aos-jovens-de-expressao
END:VEVENT
BEGIN:VTIMEZONE
TZID:Brazil/East
X-LIC-LOCATION:Brazil/East
BEGIN:STANDARD
DTSTART;VALUE=DATE-TIME:20180217T230000
TZNAME:BRT
TZOFFSETFROM:-0200
TZOFFSETTO:-0300
END:STANDARD
END:VTIMEZONE
END:VCALENDAR
