BEGIN:VCALENDAR
VERSION:2.0
PRODID:-//Plone.org//NONSGML plone.app.event//EN
X-WR-TIMEZONE:Brazil/East
BEGIN:VEVENT
SUMMARY:SESSÃO ESPECIAL EM HOMENAGEM AOS INTERPRETES DE LIBRAS.
DTSTART;TZID=Brazil/East;VALUE=DATE-TIME:20220812T090000
DTEND;TZID=Brazil/East;VALUE=DATE-TIME:20220812T120000
DTSTAMP;VALUE=DATE-TIME:20260421T070534Z
UID:090fd55a69f145b390534d2cf0de7e9f@www.goiania.go.leg.br
CONTACT:VEREADOR ISAÍAS RIBEIRO
CREATED;VALUE=DATE-TIME:20220526T115147Z
LAST-MODIFIED;VALUE=DATE-TIME:20220526T115206Z
LOCATION:PLENÁRIO TRAJANO GUIMARÃES
URL:https://www.goiania.go.leg.br/sala-de-imprensa/eventos/sessao-especial
 -em-homenagem-aos-interpretes-de-libras
END:VEVENT
BEGIN:VTIMEZONE
TZID:Brazil/East
X-LIC-LOCATION:Brazil/East
BEGIN:STANDARD
DTSTART;VALUE=DATE-TIME:20220219T230000
TZNAME:BRT
TZOFFSETFROM:-0200
TZOFFSETTO:-0300
END:STANDARD
END:VTIMEZONE
END:VCALENDAR
