BEGIN:VCALENDAR
VERSION:2.0
PRODID:-//Plone.org//NONSGML plone.app.event//EN
X-WR-TIMEZONE:Brazil/East
BEGIN:VEVENT
SUMMARY:SESSÃO ESPECIAL EM HOMENAGEM  AOS HOMENS DE ALTO VALOR.
DTSTART;TZID=Brazil/East;VALUE=DATE-TIME:20220223T170000
DTEND;TZID=Brazil/East;VALUE=DATE-TIME:20220223T190000
DTSTAMP;VALUE=DATE-TIME:20260419T162222Z
UID:a03275c0721d4a62a105b586a5d61db7@www.goiania.go.leg.br
CONTACT:VEREADOR KLEYBE MORAIS
CREATED;VALUE=DATE-TIME:20220207T140946Z
LAST-MODIFIED;VALUE=DATE-TIME:20220207T140955Z
LOCATION:PLENÁRIO TRAJANO GUIMARÃES
URL:https://www.goiania.go.leg.br/sala-de-imprensa/eventos/sessao-especial
 -em-homenagem-aos-homens-de-alto-valor
END:VEVENT
BEGIN:VTIMEZONE
TZID:Brazil/East
X-LIC-LOCATION:Brazil/East
BEGIN:STANDARD
DTSTART;VALUE=DATE-TIME:20220219T230000
TZNAME:BRT
TZOFFSETFROM:-0200
TZOFFSETTO:-0300
END:STANDARD
END:VTIMEZONE
END:VCALENDAR
