BEGIN:VCALENDAR
VERSION:2.0
PRODID:-//Plone.org//NONSGML plone.app.event//EN
X-WR-TIMEZONE:Brazil/East
BEGIN:VEVENT
SUMMARY:SESSÃO ESPECIAL EM HOMENAGEM  AOS HOMENAGEM AOS VOLUNTÁRIOS DA O
 NG ENSINANDO ABRAÇAR.
DTSTART;TZID=Brazil/East;VALUE=DATE-TIME:20180316T193000
DTEND;TZID=Brazil/East;VALUE=DATE-TIME:20180316T220000
DTSTAMP;VALUE=DATE-TIME:20260420T144558Z
UID:c7e13d6740334bf2bfea2749e85ba6f3@www.goiania.go.leg.br
CONTACT:VEREADOR DELEGADO EDUARDO PRADO
CREATED;VALUE=DATE-TIME:20180208T125942Z
LAST-MODIFIED;VALUE=DATE-TIME:20180208T130122Z
LOCATION:PLENÁRIO TRAJANO GUIMARÃES
URL:https://www.goiania.go.leg.br/sala-de-imprensa/eventos/sessao-especial
 -em-homenagem-aos-homenagem-aos-voluntarios-da-ong-ensinando-abracar
END:VEVENT
BEGIN:VTIMEZONE
TZID:Brazil/East
X-LIC-LOCATION:Brazil/East
BEGIN:STANDARD
DTSTART;VALUE=DATE-TIME:20180217T230000
TZNAME:BRT
TZOFFSETFROM:-0200
TZOFFSETTO:-0300
END:STANDARD
END:VTIMEZONE
END:VCALENDAR
